BEGIN:VCALENDAR
VERSION:2.0
PRODID:-//Spark! Creativity - ECPv6.15.20//NONSGML v1.0//EN
CALSCALE:GREGORIAN
METHOD:PUBLISH
X-ORIGINAL-URL:https://sparkcreativity.org
X-WR-CALDESC:Events for Spark! Creativity
REFRESH-INTERVAL;VALUE=DURATION:PT1H
X-Robots-Tag:noindex
X-PUBLISHED-TTL:PT1H
BEGIN:VTIMEZONE
TZID:UTC
BEGIN:STANDARD
TZOFFSETFROM:+0000
TZOFFSETTO:+0000
TZNAME:UTC
DTSTART:20250101T000000
END:STANDARD
END:VTIMEZONE
BEGIN:VEVENT
DTSTART;TZID=UTC:20260423T170000
DTEND;TZID=UTC:20260423T210000
DTSTAMP:20260423T154403
CREATED:20260404T163944Z
LAST-MODIFIED:20260404T165516Z
UID:2619-1776963600-1776978000@sparkcreativity.org
SUMMARY:Igniting Growth!
DESCRIPTION:Join us for Igniting Growth: Celebrating Creativity & Leadership for the Future of Our Youth—an arts-inspired evening of celebration and support for Spark! Creativity. \n\n\n\nOn Thursday\, April 23\, from 5–9 p.m. at the Edmonds Yacht Club\, guests will enjoy a festive night of community\, creativity\, and impact. The evening will feature a sit-down buffet\, wine toss\, dessert dash\, signature cocktail from Niles Peacock\, complimentary sparkling wine upon arrival\, raffle\, silent and live auctions\, and inspiring stories from students whose lives have been touched by the arts. \n\n\n\nDress in your best business casual or artsy attire and enjoy a memorable evening overlooking the waterfront. Together\, we’ll raise vital support to bring arts instruction into classrooms and ignite the creative potential of the next generation. \n\n\n\n🎟 Tickets are on sale now\, and sponsorship opportunities are available. Come celebrate\, connect\, and help spark a brighter\, more creative future for our youth. \n\n\n\nThank you Funding Partners! \n\n\n\n• Hazel Miller Foundation• Hubbard Family Foundation• Celebrate Creativity in Everett: 2026 Cultural Arts Grants
URL:https://sparkcreativity.org/event/igniting-growth/
LOCATION:Edmonds Yacht Club\, 326 Admiral Way\, EDMONDS\, WA\, 98020\, United States
ATTACH;FMTTYPE=image/png:https://sparkcreativity.org/wp-content/uploads/2024/07/Copy-of-Celebrating-Creativity-Leadership-for-the-Future-of-Our-Youth-5-x-5-in-1280-x-720-px-scaled.png
END:VEVENT
END:VCALENDAR