BEGIN:VCALENDAR
VERSION:2.0
PRODID:spatie/icalendar-generator
DESCRIPTION:Events from Spark! Creativity
X-WR-CALDESC:Events from Spark! Creativity
REFRESH-INTERVAL;VALUE=DURATION:PT1440M
X-PUBLISHED-TTL:PT1440M
BEGIN:VTIMEZONE
TZID:Etc/GMT+0
BEGIN:STANDARD
DTSTART:20231116T090000Z
TZOFFSETFROM:+0000
TZOFFSETTO:+0000
END:STANDARD
END:VTIMEZONE
BEGIN:VTIMEZONE
TZID:UTC
BEGIN:STANDARD
DTSTART:20250727T172655Z
TZOFFSETFROM:+0000
TZOFFSETTO:+0000
END:STANDARD
END:VTIMEZONE
BEGIN:VEVENT
UID:2-2
DTSTAMP:20260423T172655Z
SUMMARY:Session 1: Art Around the World Summer Camp (August 12 - 16 | 9 am-
 12 pm | Ages 9 - 12)
LOCATION:ArtWorks 201 2nd Ave S\,   Edmonds WA 98020-8458
ORGANIZER;CN=TSHARP1:MAILTO:TSHARP1@MAC.COM
DTSTART;TZID=Etc/GMT+0:20240812T090000
DTEND;TZID=Etc/GMT+0:20240816T120000
X-ALT-DESC;FMTTYPE=TEXT/HTML:Registration Open Now! 50% off with discount c
 ode: lastweek2024 Welcome to the Art Around the World Summer Camp\, where 
 creativity knows no bounds! This immersive camp offers children aged 9-12 
 an exciting opportunity to explore various traditional art forms from diff
 erent cultures\, including Shibori dyeing\, jewelry art with polymer\, Jap
 anese rock wrapping (Mizuhiki)\, paper mâché&amp;hellip\;
CATEGORIES:Summer Camp
URL;VALUE=URI:https://sparkcreativity.org/mc-events/session-1-art-around-th
 e-world-summer-camp-august-12-16-9-am-12-pm-ages-9-12/
METHOD:PUBLISH
END:VEVENT
END:VCALENDAR